BEGIN:VCALENDAR
VERSION:2.0
PRODID:-//RobinSunflower.com - ECPv6.2.9//NONSGML v1.0//EN
CALSCALE:GREGORIAN
METHOD:PUBLISH
X-ORIGINAL-URL:https://robinsunflower.azurewebsites.net
X-WR-CALDESC:Events for RobinSunflower.com
REFRESH-INTERVAL;VALUE=DURATION:PT1H
X-Robots-Tag:noindex
X-PUBLISHED-TTL:PT1H
BEGIN:VTIMEZONE
TZID:UTC
BEGIN:STANDARD
TZOFFSETFROM:+0000
TZOFFSETTO:+0000
TZNAME:UTC
DTSTART:20250101T000000
END:STANDARD
END:VTIMEZONE
BEGIN:VEVENT
DTSTART;TZID=UTC:20250210T203000
DTEND;TZID=UTC:20250210T230000
DTSTAMP:20260423T103648
CREATED:20250208T211903Z
LAST-MODIFIED:20250208T211903Z
UID:1459-1739219400-1739228400@robinsunflower.azurewebsites.net
SUMMARY:Adrian Ingram and Hayden Minnett
DESCRIPTION:Two exceptional jazz and blues guitarists
URL:https://robinsunflower.azurewebsites.net/event/adrian-ingram-and-hayden-minnett/
LOCATION:The White House\, 1 Water Street\, Stalybridge\, SK15 2AG\, United Kingdom
CATEGORIES:Quack-Open mic & Guest.
END:VEVENT
END:VCALENDAR